BEGIN:VCALENDAR
VERSION:2.0
PRODID:-//GTGC - ECPv6.15.20//NONSGML v1.0//EN
CALSCALE:GREGORIAN
METHOD:PUBLISH
X-ORIGINAL-URL:https://goodtidingsbkny.org
X-WR-CALDESC:Events for GTGC
REFRESH-INTERVAL;VALUE=DURATION:PT1H
X-Robots-Tag:noindex
X-PUBLISHED-TTL:PT1H
BEGIN:VTIMEZONE
TZID:America/New_York
BEGIN:DAYLIGHT
TZOFFSETFROM:-0500
TZOFFSETTO:-0400
TZNAME:EDT
DTSTART:20240310T070000
END:DAYLIGHT
BEGIN:STANDARD
TZOFFSETFROM:-0400
TZOFFSETTO:-0500
TZNAME:EST
DTSTART:20241103T060000
END:STANDARD
BEGIN:DAYLIGHT
TZOFFSETFROM:-0500
TZOFFSETTO:-0400
TZNAME:EDT
DTSTART:20250309T070000
END:DAYLIGHT
BEGIN:STANDARD
TZOFFSETFROM:-0400
TZOFFSETTO:-0500
TZNAME:EST
DTSTART:20251102T060000
END:STANDARD
BEGIN:DAYLIGHT
TZOFFSETFROM:-0500
TZOFFSETTO:-0400
TZNAME:EDT
DTSTART:20260308T070000
END:DAYLIGHT
BEGIN:STANDARD
TZOFFSETFROM:-0400
TZOFFSETTO:-0500
TZNAME:EST
DTSTART:20261101T060000
END:STANDARD
END:VTIMEZONE
BEGIN:VEVENT
DTSTART;VALUE=DATE:20250126
DTEND;VALUE=DATE:20251229
DTSTAMP:20260421T120844
CREATED:20241111T040302Z
LAST-MODIFIED:20250117T161513Z
UID:5905-1737849600-1766966399@goodtidingsbkny.org
SUMMARY:Blood Pressure Screening
DESCRIPTION:EVERY 4TH SUNDAY @ 12:45 PM\nMeet by piano after Community Hour
URL:https://goodtidingsbkny.org/event/blood-pressure-screening/
LOCATION:Good Tidings\, 345 Malcolm X Blvd\, BROOKLYN\, NY\, 11233\, United States
ATTACH;FMTTYPE=image/jpeg:https://goodtidingsbkny.org/wp-content/uploads/2019/11/cropped-GTGC_Front-20190420_114350-scaled-2.jpg
END:VEVENT
END:VCALENDAR